BEGIN:VCALENDAR
VERSION:2.0
PRODID:-//Zorgondersteuning - ECPv5.3.2.1//NONSGML v1.0//EN
CALSCALE:GREGORIAN
METHOD:PUBLISH
X-WR-CALNAME:Zorgondersteuning
X-ORIGINAL-URL:https://zorgondersteuning.be
X-WR-CALDESC:Evenementen voor Zorgondersteuning
BEGIN:VTIMEZONE
TZID:UTC
BEGIN:STANDARD
TZOFFSETFROM:+0000
TZOFFSETTO:+0000
TZNAME:UTC
DTSTART:20210101T000000
END:STANDARD
END:VTIMEZONE
BEGIN:VEVENT
DTSTART;TZID=UTC:20210916T183000
DTEND;TZID=UTC:20210916T213000
DTSTAMP:20260421T194911
CREATED:20210412T224029Z
LAST-MODIFIED:20211027T102220Z
UID:282-1631817000-1631827800@zorgondersteuning.be
SUMMARY:Lean & apotheekprocessen
DESCRIPTION:[vc_row css_animation=”” row_type=”row” use_row_as_full_screen_section=”no” type=”full_width” angled_section=”no” text_align=”left” background_image_as_pattern=”without_pattern”][vc_column][vc_column_text] \nSprekers\n[/vc_column_text][/vc_column][/vc_row][vc_row css_animation=”” row_type=”row” use_row_as_full_screen_section=”no” type=”full_width” angled_section=”no” text_align=”left” background_image_as_pattern=”without_pattern”][vc_column][vc_single_image image=”5434″ qode_css_animation=””][vc_column_text] \nFranky Buyle\nZiekenhuisapotheker\, UZ Gent \nFranky Buyle is ziekenhuisapotheker in het UZ Gent\, waar hij het antibioticabeleid mee uittekent als secretaris van de antibioticabeleidsgroep.\nHij behaalde zijn doctoraat over antimicrobial stewardship programs aan de Universiteit Gent in 2015. \nHij is actief lid van diverse wetenschappelijke verenigingen en commissies waaronder ook de werkgroep ziekenhuisgeneeskunde van de BAPCOC (de Belgische Commissie voor de coördinatie van het antibioticabeleid).[/vc_column_text][/vc_column][/vc_row][vc_row css_animation=”” row_type=”row” use_row_as_full_screen_section=”no” type=”full_width” angled_section=”no” text_align=”left” background_image_as_pattern=”without_pattern”][vc_column][vc_single_image image=”5346″ qode_css_animation=””][vc_column_text] \nPeter Declercq\nZiekenhuisapotheker\, UZ Leuven – Spoedgevallen/Traumatologie/Septische orthopedie – Coördinator hPN team apotheek – ZAP\, Klinische Farmacologie en Farmacotherapie\, KULeuven \nProf. apr. Peter Declercq is sinds oktober 2010 staflid van de ziekenhuisapotheek van UZ Leuven en behaalde de titel van doctor in de farmaceutische wetenschappen aan de Faculteit Farmacie van de KU Leuven. Hij maakt deel uit van het team Klinische Farmacie binnen de ziekenhuisapotheek. In samenspraak en in nauwe samenwerking met de artsen\, voert hij  wetenschappelijk onderzoek uit met betrekking tot optimalisatie van de kwaliteit van de therapie en dit voor verschillende geneesmiddelengroepen en/of patiëntpopulaties die beroep doen op UZ Leuven. \nPeter heeft een grote expertise opgebouwd in de infectieproblematiek bij chirurgie en de (home) parenterale nutritie (hPN). Zijn ambities hebben tevens geresulteerd in een doctoraat\, dat hij in 2018 met succes heeft verdedigd. In de nasleep van zijn wetenschappelijk onderzoek van de voorbije jaren\, werd Peter parttime aangesteld aan de KULeuven waar hij onder andere het vak Enterale en parenterale voeding doceert aan de kandidaten Master na master in de ziekenhuisfarmacie. Gezien zijn interesse en expertise in de (h)PN\, werd hij gevraagd om het hPN team van de ziekenhuisapotheek UZ Leuven te coördineren.[/vc_column_text][/vc_column][/vc_row][vc_row css_animation=”” row_type=”row” use_row_as_full_screen_section=”no” type=”full_width” angled_section=”no” text_align=”left” background_image_as_pattern=”without_pattern”][vc_column][vc_single_image image=”5352″ qode_css_animation=””][vc_column_text] \nIngrid Dekeyser\nApotheker\, AZ Groeninge  \nApr Ingrid Dekeyser is werkzaam als ziekenhuisapotheker in AZ Groeninge Kortrijk. Ze studeerde af als ziekenhuisapotheker in 2003 en werkt sindsdien in AZ Groeninge.\nSinds 2011 is zij coördinator productie en verantwoordelijke apotheker voor de klinische studies en de productie van steriele \, potentieel toxische\,  producten.[/vc_column_text][vc_column_text] \nBelangrijk\n[/vc_column_text][/vc_column][/vc_row][vc_row css_animation=”” row_type=”row” use_row_as_full_screen_section=”no” type=”full_width” angled_section=”no” text_align=”left” background_image_as_pattern=”without_pattern”][vc_column][vc_column_text]Voor ziekenhuisapothekers: accreditatie in aanvraag voor module 1 (organisatie en beheer) \nVoor bedrijven: deze activiteit is erkend door de KMO portefeuille. Dit wil zeggen dat u 30 of 40% van uw kost terugbetaald krijgt als u voldoet aan de voorwaarden van een KMO.\nMeer informatie rond voorwaarden op: https://www.vlaio.be/nl/subsidies-financiering/kmo-portefeuille/voorwaarden-voor-subsidie-de-kmo-portefeuille \nAnnulatie: bij annulatie 24u voor de aanvang van de activiteit vragen we een administratieve tegemoetkoming van 25 euro.[/vc_column_text][/vc_column][/vc_row]
URL:https://zorgondersteuning.be/event/lean-apotheekprocessen/
END:VEVENT
END:VCALENDAR